BEGIN:VCALENDAR
VERSION:2.0
CALSCALE:GREGORIAN
PRODID:-//Diputació de Barcelona//DibaCMS//EN
BEGIN:VEVENT
UID:8293
DTSTAMP:20260422T010904
DTSTART:20190503T000000
DTEND:20200502T000000
SUMMARY:Taller de música per a nadons
LOCATION:
METHOD:PUBLISH
X-WR-CALNAME:sesrovires@diba.cat
X-WR-TIMEZONE:Europe/Madrid
DESCRIPTION:L’Aula de Música comença el 4 de maig un taller de música per  a nadons i família. Es tracta d’una iniciativa que permet als més petits començar a gaudir de la música. ­El taller consta de sis sessions i està impartit per Marisol Roncancio.

URI:https://www.sesrovires.cat/actualitat/noticies/taller-de-musica-per-a-nadons.html
CLASS:PUBLIC
END:VEVENT
END:VCALENDAR
