BEGIN:VCALENDAR
VERSION:2.0
CALSCALE:GREGORIAN
PRODID:-//Diputació de Barcelona//DibaCMS//EN
BEGIN:VEVENT
UID:8294
DTSTAMP:20260422T001721
DTSTART:20190507T080000
DTEND:20200502T000000
SUMMARY:Classes gratuïtes per donar a conèixer l’esport del golf
LOCATION:
METHOD:PUBLISH
X-WR-CALNAME:sesrovires@diba.cat
X-WR-TIMEZONE:Europe/Madrid
DESCRIPTION:El Club de Golf de Barcelona, que es troba dintre del terme municipal de Sant Esteve Sesrovires, ha engegat una campanya per apropar el golf tant als sesrovirencs com  a la resta de poblacions del Baix Llobregat. La promoció consisteix en classes gratuïtes i unes noves tarifes per fer assequible aquest esport a un públic més ampli.

URI:https://www.sesrovires.cat/actualitat/noticies/classes-gratuites-per-donar-a-coneixer-lesport-del-golf.html
CLASS:PUBLIC
END:VEVENT
END:VCALENDAR
