BEGIN:VCALENDAR
VERSION:2.0
CALSCALE:GREGORIAN
PRODID:-//Diputació de Barcelona//DibaCMS//EN
BEGIN:VEVENT
UID:8295
DTSTAMP:20260422T003124
DTSTART:20190508T000000
DTEND:20200507T000000
SUMMARY:Oberta la convocatòria per participar al 10è Concurs d’Iniciatives Empresarials del Baix Llobregat Nord
LOCATION:
METHOD:PUBLISH
X-WR-CALNAME:sesrovires@diba.cat
X-WR-TIMEZONE:Europe/Madrid
DESCRIPTION:Fins al 4 d’octubre es poden presentar a l’Àrea de Promoció Econòmica les candidatures per participar al 10è Concurs d’Iniciatives Empresarials del Baix Llobregat Nord. En aquesta edició es premien amb 2.000 euros les millors empreses en creació de llocs de treball i en els sectors del comerç i dels serveis, amb 3.000 euros la millor idea jove de negoci i, com a novetat, la millor parada de mercat, també amb 2.000 euros. 

URI:https://www.sesrovires.cat/actualitat/noticies/oberta-la-convocatoria-per-participar-al-10e-concurs-diniciatives-empresarials-del-baix-llobregat-nord.html
CLASS:PUBLIC
END:VEVENT
END:VCALENDAR
