BEGIN:VCALENDAR
VERSION:2.0
CALSCALE:GREGORIAN
PRODID:-//Diputació de Barcelona//DibaCMS//EN
BEGIN:VEVENT
UID:8296
DTSTAMP:20260422T042642
DTSTART:20190508T160000
DTEND:20200507T000000
SUMMARY:Comença el període de preinscripció a la Llar d’Infants Municipal
LOCATION:
METHOD:PUBLISH
X-WR-CALNAME:sesrovires@diba.cat
X-WR-TIMEZONE:Europe/Madrid
DESCRIPTION:A partir del 13 i fins al 24 de maig s’obre el termini de preinscripció a la Llar d’Infants Municipal La Ginesta per al curs 2019-2020. L’imprés de sol·licitud està disponible al SIAC o a la web sesrovires.cat.  Després de la publicació de la llista definitiva d’admesos, s’iniciarà la matriculació, del 19 al 26 de juny.

URI:https://www.sesrovires.cat/actualitat/noticies/8296-comenca-el-periode-de-preinscripcio-a-la-llar-dinfants-municipal.html
CLASS:PUBLIC
END:VEVENT
END:VCALENDAR
