BEGIN:VCALENDAR
VERSION:2.0
CALSCALE:GREGORIAN
PRODID:-//Diputació de Barcelona//DibaCMS//EN
BEGIN:VEVENT
UID:8297
DTSTAMP:20260422T025606
DTSTART:20190513T000000
DTEND:20200512T000000
SUMMARY:Àgora celebra el 1r Torneig de Futbol Base
LOCATION:
METHOD:PUBLISH
X-WR-CALNAME:sesrovires@diba.cat
X-WR-TIMEZONE:Europe/Madrid
DESCRIPTION:L’escola Àgora Internacional School Barcelona va acollir en les seves instal·lacions el 1r Torneig de Futbol Base Àgora. El campionat va comptar amb la participació de 12 equips de categoria prebenjamí, benjamí i aleví de vàries poblacions de la demarcació de Barcelona. El torneig va estar organitzat conjuntament pel Club Esportiu Àgora i BCN FC Academy.

URI:https://www.sesrovires.cat/actualitat/noticies/agora-celebra-el-1r-torneig-de-futbol-base.html
CLASS:PUBLIC
END:VEVENT
END:VCALENDAR
