BEGIN:VCALENDAR
VERSION:2.0
CALSCALE:GREGORIAN
PRODID:-//Diputació de Barcelona//DibaCMS//EN
BEGIN:VEVENT
UID:8298
DTSTAMP:20260422T062651
DTSTART:20190513T160000
DTEND:20200512T000000
SUMMARY:Sant Esteve i quatre municipis del Baix Nord reclamen més efectius de Mossos a la zona
LOCATION:
METHOD:PUBLISH
X-WR-CALNAME:sesrovires@diba.cat
X-WR-TIMEZONE:Europe/Madrid
DESCRIPTION:Abrera, Collbató, Esparreguera, Olesa i Sant Esteve han signat una carta adreçada al Conseller d’Interior de la Generalitat, Miquel Buch, per tal d’instar la conselleria a què desenvolupi un pla de millores de mitjans i d’ampliació de recursos dels territoris d’aquests municipis de manera imminent. El document recull també la voluntat de fer una reunió de treball que serveixi per poder abordar el problema urgentment. 

URI:https://www.sesrovires.cat/actualitat/noticies/sant-esteve-i-quatre-municipis-del-baix-nord-reclamen-mes-efectius-de-mossos-a-la-zona.html
CLASS:PUBLIC
END:VEVENT
END:VCALENDAR
