BEGIN:VCALENDAR
VERSION:2.0
CALSCALE:GREGORIAN
PRODID:-//Diputació de Barcelona//DibaCMS//EN
BEGIN:VEVENT
UID:8299
DTSTAMP:20260422T012032
DTSTART:20190514T000000
DTEND:20200513T000000
SUMMARY:Recepció a l’equip de veterans del FC Sant Esteve pel seu ascens de categoria
LOCATION:
METHOD:PUBLISH
X-WR-CALNAME:sesrovires@diba.cat
X-WR-TIMEZONE:Europe/Madrid
DESCRIPTION:L’alcalde Enric Carbonell va rebre divendres a una delegació de l’equip de veterans del FC Sant Esteve, que va estar encapçalada pel tècnic Àngel Pradas. Els futbolistes sesrovirencs s’han proclamat campions de la Tercera Divisió i han aconseguit pujar de categoria.  L’acte oficial va tenir lloc a la sala de plens de l’Ajuntament i va comptar amb la presència del regidor d’Esports, Òscar Rodríguez.

URI:https://www.sesrovires.cat/actualitat/noticies/recepcio-a-lequip-de-veterans-del-fc-sant-esteve-pel-seu-ascens-de-categoria.html
CLASS:PUBLIC
END:VEVENT
END:VCALENDAR
