BEGIN:VCALENDAR
VERSION:2.0
CALSCALE:GREGORIAN
PRODID:-//Diputació de Barcelona//DibaCMS//EN
BEGIN:VEVENT
UID:8300
DTSTAMP:20260422T060732
DTSTART:20190514T120000
DTEND:20200513T000000
SUMMARY:La selecció espanyola de Jana Fernández es juga avui el seu pas a la final d'Europa
LOCATION:
METHOD:PUBLISH
X-WR-CALNAME:sesrovires@diba.cat
X-WR-TIMEZONE:Europe/Madrid
DESCRIPTION:La selecció espanyola de futbol femení sub 17 juga avui  la semifinal del Campionat d’Europa que s’està disputant a Bulgària des del passat 5 de maig. La sesrovirenca Jana Fernández forma part de l’equip espanyol que avui s’enfrontarà a Holanda. El partit es pot veure en directe pel canal de YouTube de la UEFA (https://www.youtube.com/watch?v=NdysTQIk7Vk). El matx comença a les 17.30 hores.

URI:https://www.sesrovires.cat/actualitat/noticies/la-seleccio-espanyola-de-jana-fernandez-es-juga-avui-el-seu-pas-a-la-final-deuropa.html
CLASS:PUBLIC
END:VEVENT
END:VCALENDAR
