BEGIN:VCALENDAR
VERSION:2.0
CALSCALE:GREGORIAN
PRODID:-//Diputació de Barcelona//DibaCMS//EN
BEGIN:VEVENT
UID:8301
DTSTAMP:20260422T060836
DTSTART:20190515T080000
DTEND:20200513T000000
SUMMARY:Xerrada per a escolars sobre la privacitat a internet
LOCATION:
METHOD:PUBLISH
X-WR-CALNAME:sesrovires@diba.cat
X-WR-TIMEZONE:Europe/Madrid
DESCRIPTION:Igual que passa amb els adults, els infants també estan sotmesos als perills que pot suposar un ús intensiu i irreflexiu d’internet i de les xarxes socials. Per aquest motiu, el proper 23 de maig s’impartirà un taller sobre la privacitat a internet adreçat als alumnes de 5è de l’Escola Vinya del Sastret. Aquesta activitat està organitzada per l’Àrea de Promoció Econòmica amb la col·laboració del Servei de Consum de la Diputació de Barcelona.

URI:https://www.sesrovires.cat/actualitat/noticies/xerrada-per-a-escolars-sobre-la-privacitat-a-internet.html
CLASS:PUBLIC
END:VEVENT
END:VCALENDAR
