BEGIN:VCALENDAR
VERSION:2.0
CALSCALE:GREGORIAN
PRODID:-//Diputació de Barcelona//DibaCMS//EN
BEGIN:VEVENT
UID:8304
DTSTAMP:20260422T011213
DTSTART:20190515T081500
DTEND:20200513T000000
SUMMARY:Albert Bonilla,  campió de Catalunya de taekwondo
LOCATION:
METHOD:PUBLISH
X-WR-CALNAME:sesrovires@diba.cat
X-WR-TIMEZONE:Europe/Madrid
DESCRIPTION:L’Escola Taekwondo Sesrovires va guanyar quatre medalles el passat cap de setmana al Campionat de Catalunya Cadet i Sub 21. Tots dos tornejos eren de la modalitat de combat i es van celebrar a Barcelona.  Albert Bonilla es va proclamar campió de Catalunya de categoria cadet.

URI:https://www.sesrovires.cat/actualitat/noticies/albert-bonilla-campio-de-catalunya-de-taekwondo.html
CLASS:PUBLIC
END:VEVENT
END:VCALENDAR
