BEGIN:VCALENDAR
VERSION:2.0
CALSCALE:GREGORIAN
PRODID:-//Diputació de Barcelona//DibaCMS//EN
BEGIN:VEVENT
UID:8309
DTSTAMP:20260422T025728
DTSTART:20190515T133000
DTEND:20200514T000000
SUMMARY:La Policia Local recapta 1.487€ amb els escuts solidaris contra el càncer infantil
LOCATION:
METHOD:PUBLISH
X-WR-CALNAME:sesrovires@diba.cat
X-WR-TIMEZONE:Europe/Madrid
DESCRIPTION:La campanya “Pels valents” promoguda a Sant Esteve per la Policia Local des de principis d’any ha aconseguit recaptar 1.487€ procedents dels donatius de 500 escuts solidaris. La iniciativa ha comptat amb la col·laboració dels centres educatius i dels comerços locals. Els diners es destinaran a la lluita contra el càncer infantil, a través del projecte SJD Pediatric Cancer Center.

URI:https://www.sesrovires.cat/actualitat/noticies/la-policia-local-recapta-1487eur-amb-els-escuts-solidaris-contra-el-cancer-infantil.html
CLASS:PUBLIC
END:VEVENT
END:VCALENDAR
