BEGIN:VCALENDAR
VERSION:2.0
CALSCALE:GREGORIAN
PRODID:-//Diputació de Barcelona//DibaCMS//EN
BEGIN:VEVENT
UID:8311
DTSTAMP:20260422T042710
DTSTART:20190515T140000
DTEND:20200514T000000
SUMMARY:Finalitza l’actuació per millorar l’accessibilitat al Casal de Ca n’Amat
LOCATION:
METHOD:PUBLISH
X-WR-CALNAME:sesrovires@diba.cat
X-WR-TIMEZONE:Europe/Madrid
DESCRIPTION:Les obres de millora de l’accessibilitat al Casal Social de Ca n’Amat ja han finalitzat. Els treballs han consistit en la construcció d'un pas pavimentat per facilitar l’accés des de l’avinguda Sant Esteve, l’ampliació de la superfície del porxo de l’equipament i la reparació del paviment exterior.  

URI:https://www.sesrovires.cat/actualitat/noticies/finalitza-lactuacio-per-millorar-laccessibilitat-al-casal-de-ca-namat.html
CLASS:PUBLIC
END:VEVENT
END:VCALENDAR
