BEGIN:VCALENDAR
VERSION:2.0
CALSCALE:GREGORIAN
PRODID:-//Diputació de Barcelona//DibaCMS//EN
BEGIN:VEVENT
UID:8315
DTSTAMP:20260422T034312
DTSTART:20190515T150000
DTEND:20200514T000000
SUMMARY: Els joves proposen un parc per a l’exercici físic 
LOCATION:
METHOD:PUBLISH
X-WR-CALNAME:sesrovires@diba.cat
X-WR-TIMEZONE:Europe/Madrid
DESCRIPTION:El parc de Vinya La Passada acollirà una zona destinada a l’exercici físic a l’aire lliure, el que s’anomena un espai Work out. La demanda va ser formulada a la regidoria d’Esports per joves sesrovirencs que sol·licitaven un espai on poder realitzar aquesta pràctica esportiva.

URI:https://www.sesrovires.cat/actualitat/noticies/-els-joves-proposen-un-parc-per-a-lexercici-fisic-.html
CLASS:PUBLIC
END:VEVENT
END:VCALENDAR
