BEGIN:VCALENDAR
VERSION:2.0
CALSCALE:GREGORIAN
PRODID:-//Diputació de Barcelona//DibaCMS//EN
BEGIN:VEVENT
UID:8317
DTSTAMP:20260422T015808
DTSTART:20190517T080000
DTEND:20200515T000000
SUMMARY:La inscripció a l'Estevestiu comença el 20 de maig
LOCATION:
METHOD:PUBLISH
X-WR-CALNAME:sesrovires@diba.cat
X-WR-TIMEZONE:Europe/Madrid
DESCRIPTION:Dilluns 20 de maig comença el període d’inscripcions de l’Estevestiu, que aquest any torna a venir carregat de propostes esportives i de lleure per a infants i joves. L’Estevestiu ofereix un ampli ventall d’activitats, així com servei de menjador i acollida per a les famílies que ho necessitin.

URI:https://www.sesrovires.cat/actualitat/noticies/la-inscripcio-a-lestevestiu-comenca-el-20-de-maig.html
CLASS:PUBLIC
END:VEVENT
END:VCALENDAR
