BEGIN:VCALENDAR
VERSION:2.0
CALSCALE:GREGORIAN
PRODID:-//Diputació de Barcelona//DibaCMS//EN
BEGIN:VEVENT
UID:8318
DTSTAMP:20260422T042433
DTSTART:20190518T070000
DTEND:20190518T070000
SUMMARY:SORTIDA
LOCATION:Davant del Casino 
METHOD:PUBLISH
X-WR-CALNAME:sesrovires@diba.cat
X-WR-TIMEZONE:Europe/Madrid
DESCRIPTION:Sortida als Cingles de Tavertet i pantà de Sau

URI:https://www.sesrovires.cat/actualitat/agenda-cultural/8318-sortida.html
CLASS:PUBLIC
END:VEVENT
END:VCALENDAR
