BEGIN:VCALENDAR
VERSION:2.0
CALSCALE:GREGORIAN
PRODID:-//Diputació de Barcelona//DibaCMS//EN
BEGIN:VEVENT
UID:8319
DTSTAMP:20260422T060457
DTSTART:20190519T090000
DTEND:20190519T090000
SUMMARY:MATINAL
LOCATION:Sortida des de la Plaça de la Serralada d'Esparreguera 
METHOD:PUBLISH
X-WR-CALNAME:sesrovires@diba.cat
X-WR-TIMEZONE:Europe/Madrid
DESCRIPTION:Matinal de la Vegueria, organitzat per la FEEC

Des d'Esparreguera (Plaça de la Serralada)

URI:https://www.sesrovires.cat/actualitat/agenda-cultural/8319-matinal.html
CLASS:PUBLIC
END:VEVENT
END:VCALENDAR
