BEGIN:VCALENDAR
VERSION:2.0
CALSCALE:GREGORIAN
PRODID:-//Diputació de Barcelona//DibaCMS//EN
BEGIN:VEVENT
UID:8320
DTSTAMP:20260422T034634
DTSTART:20190517T150000
DTEND:20200516T000000
SUMMARY:Sant Esteve rep un ajut de 15.000€ per instal·lar wifi pública
LOCATION:
METHOD:PUBLISH
X-WR-CALNAME:sesrovires@diba.cat
X-WR-TIMEZONE:Europe/Madrid
DESCRIPTION:Sant Esteve és un dels 100 municipis catalans que es beneficiarà dels ajuts del programa europeu Wifi4EU. La subvenció està dotada amb 15.000€ destinats  a la instal·lació de punts d’accés wifi d’alta capacitat en espais públics. Permetrà oferir connexió gratuïta a internet a tot l’entorn de les Escoles Velles.

URI:https://www.sesrovires.cat/actualitat/noticies/sant-esteve-rep-un-ajut-de-15000eur-per-installar-wifi-publica.html
CLASS:PUBLIC
END:VEVENT
END:VCALENDAR
