BEGIN:VCALENDAR
VERSION:2.0
CALSCALE:GREGORIAN
PRODID:-//Diputació de Barcelona//DibaCMS//EN
BEGIN:VEVENT
UID:8321
DTSTAMP:20260422T021452
DTSTART:20190518T190000
DTEND:20200516T000000
SUMMARY:Comencen les obres d'arranjament del carrer Indústria
LOCATION:
METHOD:PUBLISH
X-WR-CALNAME:sesrovires@diba.cat
X-WR-TIMEZONE:Europe/Madrid
DESCRIPTION:Aquesta setmana s’han iniciat les obres per reparar diversos vials del polígon industrial Can Margarit afectats per les intenses pluges del passat novembre. Els treballs han començat pel carrer Indústria que és el que presenta una major afectació. Les obres, amb una durada d’un mes i mig, van a càrrec de la promotora de la urbanització que n’assumeix el cost.

URI:https://www.sesrovires.cat/actualitat/noticies/comencen-les-obres-darranjament-del-carrer-industria.html
CLASS:PUBLIC
END:VEVENT
END:VCALENDAR
