BEGIN:VCALENDAR
VERSION:2.0
CALSCALE:GREGORIAN
PRODID:-//Diputació de Barcelona//DibaCMS//EN
BEGIN:VEVENT
UID:8322
DTSTAMP:20260422T020722
DTSTART:20190518T100000
DTEND:20200516T000000
SUMMARY:L'Ajuntament i el Club d'Handbol signen un protocol de col·laboració per l'organització del Torneig Internacional
LOCATION:
METHOD:PUBLISH
X-WR-CALNAME:sesrovires@diba.cat
X-WR-TIMEZONE:Europe/Madrid
DESCRIPTION:L’alcalde Enric Carbonell i el president del Club Handbol Sant Esteve, Amadeu Ureña, acompanyats pel regidor d’Esports, Òscar Rodríguez, han signat un protocol de col·laboració anual per a l’organització del Torneig Internacional. El document recull la voluntat de garantir el suport necessari per l’èxit i la continuïtat d’aquest esdeveniment esportiu de projecció nacional i internacional del municipi.

URI:https://www.sesrovires.cat/actualitat/noticies/lajuntament-i-el-club-dhandbol-signen-un-protocol-de-collaboracio-per-lorganitzacio-del-torneig-internacional.html
CLASS:PUBLIC
END:VEVENT
END:VCALENDAR
