BEGIN:VCALENDAR
VERSION:2.0
CALSCALE:GREGORIAN
PRODID:-//Diputació de Barcelona//DibaCMS//EN
BEGIN:VEVENT
UID:8323
DTSTAMP:20260422T060647
DTSTART:20190521T130000
DTEND:20200516T000000
SUMMARY:La Policia ultima la licitació d’una xarxa de videovigilància a diversos accessos al municipi
LOCATION:
METHOD:PUBLISH
X-WR-CALNAME:sesrovires@diba.cat
X-WR-TIMEZONE:Europe/Madrid
DESCRIPTION:Amb l’objectiu de reforçar la seguretat ciutadana, la Policia Local està treballant en la tramitació per implementar una xarxa de videovigilància al municipi. Es tracta d’un sistema d’identificació de matrícules que s’instal·larà en diversos punts d’accés al nucli urbà, barris i urbanitzacions. Actualment, una empresa especialitzada està elaborant l’estudi tècnic del projecte. 

URI:https://www.sesrovires.cat/actualitat/noticies/la-policia-ultima-la-licitacio-duna-xarxa-de-videovigilancia-a-diversos-accessos-al-municipi.html
CLASS:PUBLIC
END:VEVENT
END:VCALENDAR
