BEGIN:VCALENDAR
VERSION:2.0
CALSCALE:GREGORIAN
PRODID:-//Diputació de Barcelona//DibaCMS//EN
BEGIN:VEVENT
UID:8324
DTSTAMP:20260422T082121
DTSTART:20190520T160000
DTEND:20200516T000000
SUMMARY:Comencen les obres del carrer Mercè Rodoreda
LOCATION:
METHOD:PUBLISH
X-WR-CALNAME:sesrovires@diba.cat
X-WR-TIMEZONE:Europe/Madrid
DESCRIPTION:Aquesta setmana està previst que comencin les obres del carrer Mercè Rodoreda que han de resoldre la problemàtica del lliscament del terreny, amb la construcció soterrada d’una pantalla de pilons. Dijous es va citar els veïns afectats per informar-los de com es desenvoluparan els treballs que es preveuen d’uns 4 mesos de durada.

URI:https://www.sesrovires.cat/actualitat/noticies/comencen-les-obres-del-carrer-merce-rodoreda.html
CLASS:PUBLIC
END:VEVENT
END:VCALENDAR
