BEGIN:VCALENDAR
VERSION:2.0
CALSCALE:GREGORIAN
PRODID:-//Diputació de Barcelona//DibaCMS//EN
BEGIN:VEVENT
UID:8325
DTSTAMP:20260422T062750
DTSTART:20190520T000000
DTEND:20200519T000000
SUMMARY:Sergi Pérez, doble medalla en tir amb  arc
LOCATION:
METHOD:PUBLISH
X-WR-CALNAME:sesrovires@diba.cat
X-WR-TIMEZONE:Europe/Madrid
DESCRIPTION:L’esportista  sesrovirenc  Sergi Pérez ha aconseguit aquesta temporada dues medalles de plata en la modalitat de tir amb arc.  La primera, a la Lliga Catalana i la segona, en el Campionat de Catalunya celebrat aquest cap de setmana.

URI:https://www.sesrovires.cat/actualitat/noticies/sergi-perez-doble-medalla-en-tir-amb-arc.html
CLASS:PUBLIC
END:VEVENT
END:VCALENDAR
