BEGIN:VCALENDAR
VERSION:2.0
CALSCALE:GREGORIAN
PRODID:-//Diputació de Barcelona//DibaCMS//EN
BEGIN:VEVENT
UID:8326
DTSTAMP:20260422T042745
DTSTART:20190521T080000
DTEND:20200519T000000
SUMMARY:Ariadna  Val, puja al pòdium en el campionat de gimnàstica
LOCATION:
METHOD:PUBLISH
X-WR-CALNAME:sesrovires@diba.cat
X-WR-TIMEZONE:Europe/Madrid
DESCRIPTION:L’esportista de Sant Esteve Sesrovires Ariadna Val ha participat en la 3a Fase de Base – Via Olímpica de Gimnàstica Artística Femenina el passat cap de setmana a Vic. La sesrovirenca s’ha fet amb una medalla d’or i una altra de plata. La sesrovirenca forma part del Club de Gimnàstica Artística de l’Hospitalet de Llobregat.

URI:https://www.sesrovires.cat/actualitat/noticies/ariadna-val-puja-al-podium-en-el-campionat-de-gimnastica.html
CLASS:PUBLIC
END:VEVENT
END:VCALENDAR
