BEGIN:VCALENDAR
VERSION:2.0
CALSCALE:GREGORIAN
PRODID:-//Diputació de Barcelona//DibaCMS//EN
BEGIN:VEVENT
UID:8327
DTSTAMP:20260422T082222
DTSTART:20190520T150000
DTEND:20200519T000000
SUMMARY:Èxit dels equips de base del CH Sant Esteve
LOCATION:
METHOD:PUBLISH
X-WR-CALNAME:sesrovires@diba.cat
X-WR-TIMEZONE:Europe/Madrid
DESCRIPTION:El bon treball del Club Handbol Sant Esteve amb els equips de base s’ha fet palès aquest cap de setmana. En les fases sector, l’infantil B femení ha quedat campió i el benjamí-aleví femení, subcampió.  A més, el cadet masculí s’ha classificat per jugar el TOP-4.

URI:https://www.sesrovires.cat/actualitat/noticies/exit-dels-equips-de-base-del-ch-sant-esteve.html
CLASS:PUBLIC
END:VEVENT
END:VCALENDAR
