BEGIN:VCALENDAR
VERSION:2.0
CALSCALE:GREGORIAN
PRODID:-//Diputació de Barcelona//DibaCMS//EN
BEGIN:VEVENT
UID:8329
DTSTAMP:20260422T044503
DTSTART:20190521T100000
DTEND:20200520T000000
SUMMARY:Participació sesrovirenca en el torneig internacional universitari de Belgrad
LOCATION:
METHOD:PUBLISH
X-WR-CALNAME:sesrovires@diba.cat
X-WR-TIMEZONE:Europe/Madrid
DESCRIPTION:La selecció catalana universitària d’handbol ha guanyat la final del Best Game 2019, un torneig internacional que ha tingut lloc a Belgrad (Sèrbia) el passat cap de setmana. El combinat català ha comptat amb la participació de tres jugadors de Sant Esteve Sesrovires i del primer entrenador del CH Sant Esteve.

URI:https://www.sesrovires.cat/actualitat/noticies/participacio-sesrovirenca-en-el-torneig-internacional-universitari-de-belgrad.html
CLASS:PUBLIC
END:VEVENT
END:VCALENDAR
