BEGIN:VCALENDAR
VERSION:2.0
CALSCALE:GREGORIAN
PRODID:-//Diputació de Barcelona//DibaCMS//EN
BEGIN:VEVENT
UID:8330
DTSTAMP:20260422T060440
DTSTART:20190521T120000
DTEND:20200520T000000
SUMMARY:El FC Sant Esteve es juga diumenge la permanència en Tercera Divisió
LOCATION:
METHOD:PUBLISH
X-WR-CALNAME:sesrovires@diba.cat
X-WR-TIMEZONE:Europe/Madrid
DESCRIPTION:El primer equip del FC Sant Esteve  arriba diumenge a la jornada 34 i última de la Tercera Divisió amb la decisió ferma de mantenir la categoria.  Els sesrovirencs jugaran contra l’Olesa de Montserrat, però al camp de Viladecavalls. 

URI:https://www.sesrovires.cat/actualitat/noticies/el-fc-sant-esteve-es-juga-diumenge-la-permanencia-en-tercera-divisio.html
CLASS:PUBLIC
END:VEVENT
END:VCALENDAR
