BEGIN:VCALENDAR
VERSION:2.0
CALSCALE:GREGORIAN
PRODID:-//Diputació de Barcelona//DibaCMS//EN
BEGIN:VEVENT
UID:8331
DTSTAMP:20260422T025804
DTSTART:20190522T140000
DTEND:20200521T000000
SUMMARY:Convocatòria d’un pla d'ocupació per cobrir un lloc d’informador/a juvenil
LOCATION:
METHOD:PUBLISH
X-WR-CALNAME:sesrovires@diba.cat
X-WR-TIMEZONE:Europe/Madrid
DESCRIPTION:L’Ajuntament de Sant Esteve ha obert la convocatòria d'un nou pla d'ocupació per cobrir un lloc de treball d'informador/a juvenil. Les persones interessades poden adreçar-se a Promoció Econòmica fins al divendres 31 de maig. Aquest pla està dirigit a joves majors de 18 anys en situació d’atur.

URI:https://www.sesrovires.cat/actualitat/noticies/convocatoria-dun-pla-docupacio-per-cobrir-un-lloc-dinformadora-juvenil.html
CLASS:PUBLIC
END:VEVENT
END:VCALENDAR
