BEGIN:VCALENDAR
VERSION:2.0
CALSCALE:GREGORIAN
PRODID:-//Diputació de Barcelona//DibaCMS//EN
BEGIN:VEVENT
UID:8333
DTSTAMP:20260422T025914
DTSTART:20190523T135500
DTEND:20200521T000000
SUMMARY:Finalitza l’actuació per millorar l’accessibilitat a la plaça del Doctor Tarrés
LOCATION:
METHOD:PUBLISH
X-WR-CALNAME:sesrovires@diba.cat
X-WR-TIMEZONE:Europe/Madrid
DESCRIPTION:Aquesta setmana han finalitzat les actuacions de millora de l’accessibilitat a la plaça del Dr. Tarrés. Els treballs han consistit en la supressió d’un dels nivells, la pavimentació, la millora de la recollida d’aigües, i la instal·lació de mobiliari urbà. L’objectiu dels treballs és  facilitar l’accés a les persones amb mobilitat reduïda, així com ampliar l’espai per acollir activitats i contribuir a dinamitzar la plaça.

URI:https://www.sesrovires.cat/actualitat/noticies/finalitza-lactuacio-per-millorar-laccessibilitat-a-la-placa-del-doctor-tarres.html
CLASS:PUBLIC
END:VEVENT
END:VCALENDAR
