BEGIN:VCALENDAR
VERSION:2.0
CALSCALE:GREGORIAN
PRODID:-//Diputació de Barcelona//DibaCMS//EN
BEGIN:VEVENT
UID:8334
DTSTAMP:20260422T054107
DTSTART:20190527T080000
DTEND:20200522T000000
SUMMARY:Nova edició de la jornada Roureda Posa't Guapa
LOCATION:
METHOD:PUBLISH
X-WR-CALNAME:sesrovires@diba.cat
X-WR-TIMEZONE:Europe/Madrid
DESCRIPTION:La comunitat educativa de l’escola La Roureda torna a engegar, el proper diumenge 2 de juny, la jornada de participació Roureda Posa’t Guapa. El projecte va començar per tal de millorar els espais de joc del centre, però actualment ha evolucionat fins a un triple objectiu: estètic, pedagògic i de germanor.

URI:https://www.sesrovires.cat/actualitat/noticies/nova-edicio-de-la-jornada-roureda-posat-guapa.html
CLASS:PUBLIC
END:VEVENT
END:VCALENDAR
