BEGIN:VCALENDAR
VERSION:2.0
CALSCALE:GREGORIAN
PRODID:-//Diputació de Barcelona//DibaCMS//EN
BEGIN:VEVENT
UID:8335
DTSTAMP:20260422T030705
DTSTART:20190602T093000
DTEND:20190602T093000
SUMMARY:ROUREDA POSA'T GUAPA
LOCATION:Avinguda Montserrat, s/n 08635 Sant Esteve Sesrovires
METHOD:PUBLISH
X-WR-CALNAME:sesrovires@diba.cat
X-WR-TIMEZONE:Europe/Madrid
DESCRIPTION:Activitat participativa de la comunitat educativa de la Roureda on col·laborar en accions de millora de l'escola. Oberta a tothom que vulgui cooperar. Per dinar "paellada familiar", tiquets al menjador de l'escola per 5€.

URI:https://www.sesrovires.cat/actualitat/agenda-cultural/roureda-posat-guapa.html
CLASS:PUBLIC
END:VEVENT
END:VCALENDAR
