BEGIN:VCALENDAR
VERSION:2.0
CALSCALE:GREGORIAN
PRODID:-//Diputació de Barcelona//DibaCMS//EN
BEGIN:VEVENT
UID:8336
DTSTAMP:20260422T060631
DTSTART:20190607T200000
DTEND:20190616T140000
SUMMARY:INAUGURACIÓ EXPOSICIÓ
LOCATION:C/ de Dr. Pau Costas, 49 08635 Sant Esteve Sesrovires
METHOD:PUBLISH
X-WR-CALNAME:sesrovires@diba.cat
X-WR-TIMEZONE:Europe/Madrid
DESCRIPTION:Exposició fotogràfica de Miquel Estrada: Recull de Fotografies.

Oberta del 7 al 16 de juny oberta de dimecres a diumenge, feiners de 19 a 21 hores, festius de 12 a 14 hores

URI:https://www.sesrovires.cat/actualitat/agenda-cultural/8336-inauguracio-exposicio.html
CLASS:PUBLIC
END:VEVENT
END:VCALENDAR
