BEGIN:VCALENDAR
VERSION:2.0
CALSCALE:GREGORIAN
PRODID:-//Diputació de Barcelona//DibaCMS//EN
BEGIN:VEVENT
UID:8337
DTSTAMP:20260422T080346
DTSTART:20190609T190000
DTEND:20190609T190000
SUMMARY:CONCERT DE GOSPEL
LOCATION:Plaça del Dr. Tarrés 08635 Sant Esteve Sesrovires
METHOD:PUBLISH
X-WR-CALNAME:sesrovires@diba.cat
X-WR-TIMEZONE:Europe/Madrid
DESCRIPTION:Concert a càrrec del grup de gospel de vilafranca ETNOSONS

Direcció i Piano: Pau Sastre

Preu Entrada 5 €

URI:https://www.sesrovires.cat/actualitat/agenda-cultural/concert-de-gospel.html
CLASS:PUBLIC
END:VEVENT
END:VCALENDAR
