BEGIN:VCALENDAR
VERSION:2.0
CALSCALE:GREGORIAN
PRODID:-//Diputació de Barcelona//DibaCMS//EN
BEGIN:VEVENT
UID:8338
DTSTAMP:20260422T152735
DTSTART:20190608T140000
DTEND:20190608T140000
SUMMARY:23a FESTA DEL SOCI
LOCATION:Carrer Josep Maria de Segarra, 36 08635 Sant Esteve Sesrovires
METHOD:PUBLISH
X-WR-CALNAME:sesrovires@diba.cat
X-WR-TIMEZONE:Europe/Madrid
DESCRIPTION:Dinar popular amb FIDEUÀ  i xaranga. Tiquet 6 € per a tothom. Venda de tiquets al Casal Social de Vallserrat de 17.00 a 19.00 tots els dissabtes.  

22.00 hores ball de nit amb DAVID.

Organitza l'Associació de Veíns Unificada de Vallserrat

URI:https://www.sesrovires.cat/actualitat/agenda-cultural/23a-festa-del-soci.html
CLASS:PUBLIC
END:VEVENT
END:VCALENDAR
