BEGIN:VCALENDAR
VERSION:2.0
CALSCALE:GREGORIAN
PRODID:-//Diputació de Barcelona//DibaCMS//EN
BEGIN:VEVENT
UID:8339
DTSTAMP:20260422T131835
DTSTART:20190608T100000
DTEND:20190608T100000
SUMMARY:XIV CAMPIONAT DE MUS
LOCATION:C/ Martorell s/n 08635 Sant Esteve Sesrovires
METHOD:PUBLISH
X-WR-CALNAME:sesrovires@diba.cat
X-WR-TIMEZONE:Europe/Madrid
DESCRIPTION:
URI:https://www.sesrovires.cat/actualitat/agenda-cultural/xiv-campionat-de-mus.html
CLASS:PUBLIC
END:VEVENT
END:VCALENDAR
