BEGIN:VCALENDAR
VERSION:2.0
CALSCALE:GREGORIAN
PRODID:-//Diputació de Barcelona//DibaCMS//EN
BEGIN:VEVENT
UID:8340
DTSTAMP:20260422T080038
DTSTART:20190608T180000
DTEND:20190608T180000
SUMMARY:TEATRE
LOCATION:Carrer de Sant Joan, 15 08635 Sant Esteve Sesrovires
METHOD:PUBLISH
X-WR-CALNAME:sesrovires@diba.cat
X-WR-TIMEZONE:Europe/Madrid
DESCRIPTION:Representació del treball de final de curs del Taller de Teatre Infantil, amb l'obra El Malalt Imaginari.

URI:https://www.sesrovires.cat/actualitat/agenda-cultural/8340-teatre.html
CLASS:PUBLIC
END:VEVENT
END:VCALENDAR
