BEGIN:VCALENDAR
VERSION:2.0
CALSCALE:GREGORIAN
PRODID:-//Diputació de Barcelona//DibaCMS//EN
BEGIN:VEVENT
UID:8342
DTSTAMP:20260422T060927
DTSTART:20190524T100000
DTEND:20200523T000000
SUMMARY:El Casal de la Gent Gran s’estrena com a col·legi electoral 
LOCATION:
METHOD:PUBLISH
X-WR-CALNAME:sesrovires@diba.cat
X-WR-TIMEZONE:Europe/Madrid
DESCRIPTION:Uns 5.800 sesrovirencs i sesrovirenques estan cridats a les urnes aquest diumenge per exercir el seu dret a vot en les eleccions municipals i europees. La novetat d’aquesta convocatòria és l’obertura del Casal de la Gent Gran com a cinquè col·legi electoral.

URI:https://www.sesrovires.cat/actualitat/noticies/el-casal-de-la-gent-gran-sestrena-com-a-collegi-electoral-.html
CLASS:PUBLIC
END:VEVENT
END:VCALENDAR
