BEGIN:VCALENDAR
VERSION:2.0
CALSCALE:GREGORIAN
PRODID:-//Diputació de Barcelona//DibaCMS//EN
BEGIN:VEVENT
UID:8348
DTSTAMP:20260422T011303
DTSTART:20190610T193000
DTEND:20190610T193000
SUMMARY:AUDICIÓ MUSICAL
LOCATION:C/ de Dr. Pau Costas, 49 08635 Sant Esteve Sesrovires
METHOD:PUBLISH
X-WR-CALNAME:sesrovires@diba.cat
X-WR-TIMEZONE:Europe/Madrid
DESCRIPTION:Setmana d'audicions dels alumnes de l'Aula de Música: Final de curs.

URI:https://www.sesrovires.cat/actualitat/agenda-cultural/8348-audicio-musical.html
CLASS:PUBLIC
END:VEVENT
END:VCALENDAR
