BEGIN:VCALENDAR
VERSION:2.0
CALSCALE:GREGORIAN
PRODID:-//Diputació de Barcelona//DibaCMS//EN
BEGIN:VEVENT
UID:8353
DTSTAMP:20260422T073610
DTSTART:20190528T080000
DTEND:20200526T000000
SUMMARY:Últims dies per inscriure’s en el Campionat de Mus
LOCATION:
METHOD:PUBLISH
X-WR-CALNAME:sesrovires@diba.cat
X-WR-TIMEZONE:Europe/Madrid
DESCRIPTION:Els aficionats al mus tenen una cita a Sant Esteve Sesrovires. La penya La Catedral del mus organitza la 14a edició del Campionat de Mus, el 8 de juny, de 10:00 a 20:00h,  a la sala el Celler de l’Ajuntament.  Les inscripcions es poden fer fins al 31 de maig.

URI:https://www.sesrovires.cat/actualitat/noticies/ultims-dies-per-inscriures-en-el-campionat-de-mus.html
CLASS:PUBLIC
END:VEVENT
END:VCALENDAR
