BEGIN:VCALENDAR
VERSION:2.0
CALSCALE:GREGORIAN
PRODID:-//Diputació de Barcelona//DibaCMS//EN
BEGIN:VEVENT
UID:8364
DTSTAMP:20260422T053625
DTSTART:20190529T100000
DTEND:20200527T000000
SUMMARY:Ajuts esportius per a infants i joves
LOCATION:
METHOD:PUBLISH
X-WR-CALNAME:sesrovires@diba.cat
X-WR-TIMEZONE:Europe/Madrid
DESCRIPTION:El dia 1 de juny s’obre el període per sol·licitar els ajuts per a infants i joves que practiquen esport. La finalitat d’aquesta subvenció és facilitar la participació en els programes esportius a les famílies amb menys recursos. Es pot tramitar presencialment en el SIAC o través de la Seu Electrònica.

URI:https://www.sesrovires.cat/actualitat/noticies/ajuts-esportius-per-a-infants-i-joves.html
CLASS:PUBLIC
END:VEVENT
END:VCALENDAR
