BEGIN:VCALENDAR
VERSION:2.0
CALSCALE:GREGORIAN
PRODID:-//Diputació de Barcelona//DibaCMS//EN
BEGIN:VEVENT
UID:8365
DTSTAMP:20260422T073703
DTSTART:20190528T120000
DTEND:20200527T000000
SUMMARY:La piscina d’estiu obre el 8 de juny
LOCATION:
METHOD:PUBLISH
X-WR-CALNAME:sesrovires@diba.cat
X-WR-TIMEZONE:Europe/Madrid
DESCRIPTION:El proper 8 de juny s’obrirà la piscina d’estiu del Complex Esportiu Municipal. La temporada estival es perllongarà fins a l’11 de setembre i es complementarà amb altres activitats, com cursets intensius de natació i classes de ioga, pilates i qi gong.

URI:https://www.sesrovires.cat/actualitat/noticies/la-piscina-destiu-obre-el-8-de-juny.html
CLASS:PUBLIC
END:VEVENT
END:VCALENDAR
