BEGIN:VCALENDAR
VERSION:2.0
CALSCALE:GREGORIAN
PRODID:-//Diputació de Barcelona//DibaCMS//EN
BEGIN:VEVENT
UID:8389
DTSTAMP:20260422T054254
DTSTART:20190529T150000
DTEND:20200528T000000
SUMMARY:Els jardins de l’Ajuntament comencen temporada d’estiu 
LOCATION:
METHOD:PUBLISH
X-WR-CALNAME:sesrovires@diba.cat
X-WR-TIMEZONE:Europe/Madrid
DESCRIPTION:Aquest divendres 31 de maig comença l'activitat d’estiu als jardins de l’Ajuntament amb l’obertura del servei de bar. A partir de les 6 de la tarda ja s’hi podrá accedir, tot i que l’acte d’inauguració serà a les 8 del vespre. La temporada finalitzarà al setembre.

URI:https://www.sesrovires.cat/actualitat/noticies/els-jardins-de-lajuntament-comencen-temporada-destiu-.html
CLASS:PUBLIC
END:VEVENT
END:VCALENDAR
