BEGIN:VCALENDAR
VERSION:2.0
CALSCALE:GREGORIAN
PRODID:-//Diputació de Barcelona//DibaCMS//EN
BEGIN:VEVENT
UID:8395
DTSTAMP:20260422T040510
DTSTART:20190530T120000
DTEND:20200529T000000
SUMMARY:Estudiants de tres països participen en la NACE CUP a l’escola Àgora
LOCATION:
METHOD:PUBLISH
X-WR-CALNAME:sesrovires@diba.cat
X-WR-TIMEZONE:Europe/Madrid
DESCRIPTION:Més de 600 estudiants d’Espanya, França i Itàlia es troben a l’escola Àgora Internacional School Barcelona per participar en la NACE CUP, una competició que reuneix a Sant Esteve Sesrovires als centres educatius del grup NACE.  En total, hi ha delegacions de 12 escoles que han arribat amb alumnes que van des de 5è de Primària fins a 3r d’ESO. La competició està formada per dues modalitats esportives, el futbol i el bàsquet.

URI:https://www.sesrovires.cat/actualitat/noticies/estudiants-de-tres-paisos-participen-en-la-nace-cup-a-lescola-agora.html
CLASS:PUBLIC
END:VEVENT
END:VCALENDAR
