BEGIN:VCALENDAR
VERSION:2.0
CALSCALE:GREGORIAN
PRODID:-//Diputació de Barcelona//DibaCMS//EN
BEGIN:VEVENT
UID:8396
DTSTAMP:20260422T054342
DTSTART:20190531T130000
DTEND:20200530T000000
SUMMARY:Presentació de candidatures al Projecte Comerç 21 per millorar la competitivitat del negoci
LOCATION:
METHOD:PUBLISH
X-WR-CALNAME:sesrovires@diba.cat
X-WR-TIMEZONE:Europe/Madrid
DESCRIPTION:Fins al 7 de juny està obert el termini perquè comerços i serveis presentin candidatures al Projecte Comerç 21. L’objectiu d’aquest programa és ajudar a millorar la competitivitat del negoci. Està impulsat per Diputació i PIMEC i compta amb la col·laboració de Promoció Econòmica de l’Ajuntament de Sant Esteve.

URI:https://www.sesrovires.cat/actualitat/noticies/presentacio-de-candidatures-al-projecte-comerc-21-per-millorar-la-competitivitat-del-negoci.html
CLASS:PUBLIC
END:VEVENT
END:VCALENDAR
