BEGIN:VCALENDAR
VERSION:2.0
CALSCALE:GREGORIAN
PRODID:-//Diputació de Barcelona//DibaCMS//EN
BEGIN:VEVENT
UID:8397
DTSTAMP:20260422T073511
DTSTART:20190531T145500
DTEND:20200530T000000
SUMMARY:Obertura de l'Aula d'Estudi 
LOCATION:
METHOD:PUBLISH
X-WR-CALNAME:sesrovires@diba.cat
X-WR-TIMEZONE:Europe/Madrid
DESCRIPTION:Des d’avui i fins al 14 de juny restarà oberta l’Aula d’Estudi per tal que els joves estudiants del municipi puguin preparar-se el període d’exàmens. El servei està ubicat a l’Aula Municipal de Formació.

URI:https://www.sesrovires.cat/actualitat/noticies/obertura-de-laula-destudi-.html
CLASS:PUBLIC
END:VEVENT
END:VCALENDAR
