BEGIN:VCALENDAR
VERSION:2.0
CALSCALE:GREGORIAN
PRODID:-//Diputació de Barcelona//DibaCMS//EN
BEGIN:VEVENT
UID:8398
DTSTAMP:20260422T042015
DTSTART:20190603T140000
DTEND:20200602T000000
SUMMARY:Nou servei d’assessorament sobre formació i ocupació per a joves
LOCATION:
METHOD:PUBLISH
X-WR-CALNAME:sesrovires@diba.cat
X-WR-TIMEZONE:Europe/Madrid
DESCRIPTION:Ajudar a decidir què estudiar o a trobar feina, són algunes de les funcions del Referent d’Ocupació Juvenil, un nou servei que es posa a l’abast dels joves sesrovirencs a través del Consell Comarcal i de l’Ajuntament. Quinzenalment, un tècnic especialista prestarà el servei a les Escoles Velles (C/ Pau Costas s,n) oferint assessorament individualitzat en els àmbits de la formació i de l’ocupació.

URI:https://www.sesrovires.cat/actualitat/noticies/nou-servei-dassessorament-sobre-formacio-i-ocupacio-per-a-joves.html
CLASS:PUBLIC
END:VEVENT
END:VCALENDAR
