BEGIN:VCALENDAR
VERSION:2.0
CALSCALE:GREGORIAN
PRODID:-//Diputació de Barcelona//DibaCMS//EN
BEGIN:VEVENT
UID:8400
DTSTAMP:20260422T033022
DTSTART:20190606T000000
DTEND:20200605T000000
SUMMARY:El vòlei infantil femení guanya la Fase d’Ascens i puja de categoria
LOCATION:
METHOD:PUBLISH
X-WR-CALNAME:sesrovires@diba.cat
X-WR-TIMEZONE:Europe/Madrid
DESCRIPTION:L’equip infantil femení del Club Vòlei Sant Esteve s’ha proclamat campió de la Fase d’Ascens, al derrotar al Barberà en el Pavelló Municipal d’Avinyó el passat cap de setmana. Les sesrovirenques aconsegueixen d’aquesta forma pujar la propera temporada a la Primera Divisió. A més, aquest cap de setmana disputaran al Fase Final del campionat de la categoria.

URI:https://www.sesrovires.cat/actualitat/noticies/el-volei-infantil-femeni-guanya-la-fase-dascens-i-puja-de-categoria.html
CLASS:PUBLIC
END:VEVENT
END:VCALENDAR
