BEGIN:VCALENDAR
VERSION:2.0
CALSCALE:GREGORIAN
PRODID:-//Diputació de Barcelona//DibaCMS//EN
BEGIN:VEVENT
UID:8401
DTSTAMP:20260422T031359
DTSTART:20190606T000000
DTEND:20200605T000000
SUMMARY:Aula de Música, setmana d’audicions i concert de final de curs
LOCATION:
METHOD:PUBLISH
X-WR-CALNAME:sesrovires@diba.cat
X-WR-TIMEZONE:Europe/Madrid
DESCRIPTION:L’Aula de Música oferirà el diumenge, 15 de juny, el concert de final de curs.  Enguany el lloc triat és l’Institut Montserrat Colomer. A més durant tota la setmana, del 10 al 13 de juny, oferirà audicions a la Sala Domènech i Estapà.

URI:https://www.sesrovires.cat/actualitat/noticies/aula-de-musica-setmana-daudicions-i-concert-de-final-de-curs.html
CLASS:PUBLIC
END:VEVENT
END:VCALENDAR
