BEGIN:VCALENDAR
VERSION:2.0
CALSCALE:GREGORIAN
PRODID:-//Diputació de Barcelona//DibaCMS//EN
BEGIN:VEVENT
UID:8402
DTSTAMP:20260422T103148
DTSTART:20190607T140000
DTEND:20200606T000000
SUMMARY:Concert de gospel a l'església, diumenge 9 de juny 
LOCATION:
METHOD:PUBLISH
X-WR-CALNAME:sesrovires@diba.cat
X-WR-TIMEZONE:Europe/Madrid
DESCRIPTION:L’església parroquial acull aquest diumenge un concert de gospel a càrrec del cor Etnosons, dirigit pel músic sesrovirenc Pau Sastre. L’actuació musical tindrà lloc a les 7 de la tarda. Es poden adquirir entrades anticipades al Casino. 

URI:https://www.sesrovires.cat/actualitat/noticies/concert-de-gospel-a-lesglesia-diumenge-9-de-juny-.html
CLASS:PUBLIC
END:VEVENT
END:VCALENDAR
