BEGIN:VCALENDAR
VERSION:2.0
CALSCALE:GREGORIAN
PRODID:-//Diputació de Barcelona//DibaCMS//EN
BEGIN:VEVENT
UID:8404
DTSTAMP:20260422T103017
DTSTART:20190607T143000
DTEND:20200606T000000
SUMMARY:El projecte Erasmus+ de l’Institut Montserrat Colomer escollit exemple de bones pràctiques
LOCATION:
METHOD:PUBLISH
X-WR-CALNAME:sesrovires@diba.cat
X-WR-TIMEZONE:Europe/Madrid
DESCRIPTION:“Better Teaching, Better Learning”, el projecte Erasmus+ que durant dos anys ha treballat l’Institut Montserrat Colomer amb centres de Finlàndia, Polònia i Itàlia, sobre metodologies innovadores en l’àmbit de l’aprenentatge i l’ensenyament, ha estat escollit exemple de bones pràctiques.

URI:https://www.sesrovires.cat/actualitat/noticies/el-projecte-erasmus-de-linstitut-montserrat-colomer-escollit-exemple-de-bones-practiques.html
CLASS:PUBLIC
END:VEVENT
END:VCALENDAR
