BEGIN:VCALENDAR
VERSION:2.0
CALSCALE:GREGORIAN
PRODID:-//Diputació de Barcelona//DibaCMS//EN
BEGIN:VEVENT
UID:8410
DTSTAMP:20260422T060508
DTSTART:20190613T080000
DTEND:20200611T000000
SUMMARY:Les inscripcions a les escoles esportives comencen el 17 de juny
LOCATION:
METHOD:PUBLISH
X-WR-CALNAME:sesrovires@diba.cat
X-WR-TIMEZONE:Europe/Madrid
DESCRIPTION:El període d’inscripció de les Escoles Esportives comença el proper dia 17 de juny. Enguany es podrà escollir entre 10 modalitats esportives diferents. Les inscripcions  s’han de cursar en el Complex Esportiu Municipal o directament en el club organitzador de l’activitat.

URI:https://www.sesrovires.cat/actualitat/noticies/les-inscripcions-a-les-escoles-esportives-comencen-el-17-de-juny.html
CLASS:PUBLIC
END:VEVENT
END:VCALENDAR
